BEGIN:VCALENDAR
VERSION:2.0
PRODID:-//אולם מופעים מטה אשר כברי - ECPv4.6.13//NONSGML v1.0//EN
CALSCALE:GREGORIAN
METHOD:PUBLISH
X-WR-CALNAME:אולם מופעים מטה אשר כברי
X-ORIGINAL-URL:https://umacabri.co.il
X-WR-CALDESC:Events for אולם מופעים מטה אשר כברי
BEGIN:VEVENT
DTSTART;TZID=UTC+0:20211008T220000
DTEND;TZID=UTC+0:20211009T010000
DTSTAMP:20210917T031912
CREATED:20210714T090604Z
LAST-MODIFIED:20210912T082104Z
UID:2890-1633730400-1633741200@umacabri.co.il
SUMMARY:אבי נוסבאום
DESCRIPTION:\nאבי נוסבאום במופע סטנדאפ \nכרטיס: 125₪ \nההופעות באולם מתקיימות בכפוף ל”תו הירוק”נא להגיע חצי שעה לפני תחילת מופע להכין את ה”תו הירוק” תעודת זהות וכרטיסים \n*בנושא נגישות נא לפנות לדורית 052-8011523 \n \nקשרי לקוחות 052-8011523   \nulamc@mta.org.il \nט.ל.ח לאולם מופעים מטה אשר כברי\, שמורה הזכות לשינויים \nצילום: פיני סילוק \n\n \n\n                    \n                    \n                    \n                    \n                    \n                    \n                    iFrameResize({autoResize : true\, checkOrigin : false}\, "iframe.resizableFrame");\n                    \n                \n                \n
URL:https://umacabri.co.il/event/%d7%90%d7%91%d7%99-%d7%a0%d7%95%d7%a1%d7%91%d7%90%d7%95%d7%9d-3/
ATTACH;FMTTYPE=image/jpeg:https://umacabri.co.il/wp-content/uploads/2021/07/fcee4d85c4e1c50f87f9ef23bec5b4ef.jpg
END:VEVENT
END:VCALENDAR