BEGIN:VCALENDAR
VERSION:2.0
PRODID:-//אולם מופעים מטה אשר כברי - ECPv4.6.13//NONSGML v1.0//EN
CALSCALE:GREGORIAN
METHOD:PUBLISH
X-WR-CALNAME:אולם מופעים מטה אשר כברי
X-ORIGINAL-URL:https://umacabri.co.il
X-WR-CALDESC:Events for אולם מופעים מטה אשר כברי
BEGIN:VEVENT
DTSTART;TZID=UTC+0:20210520T210000
DTEND;TZID=UTC+0:20210521T000000
DTSTAMP:20210428T182606
CREATED:20210421T090400Z
LAST-MODIFIED:20210428T095858Z
UID:2489-1621544400-1621555200@umacabri.co.il
SUMMARY:יובל דיין
DESCRIPTION:\nיובל דיין \nלאחר כמעט עשור של עשייה\, הפכה יובל דיין לחלק בלתי נפרד מהפסקול הישראלי ולאחת הזמרות-יוצרות המצליחות והמוערכות בישראל.על הבמה יובל כובשת את הקהל באותנטיות שלה\, בנוכחותה המרשימה\, בכישרונה הרב ובקולה הבלתי נשכח. היא אף זכתה במעמד ייחודי בתעשיית המוזיקה הישראלית: זמרת שכותבת ומלחינה את רוב שיריה\, בעלת טביעת קול אחת ויחידה. \nבין השירים: “לאסוף”\, “אל תאמר” ו”עד שתחזור”. “בדיוק כמו הירח”\, “לילותיי” ו”לבי ער”. “שרק תחייך” “אתה בכולם”. \n \nכרטיס: 125₪ \nקשרי לקוחות 052-8011523   ulamc@mta.org.ilהכניסה להופעה תתאפשר בכפוף להנחיות משרד הבריאות לבעלי תעודת חיסון ותעודת החלמה ובכפוף לתנאי התו הירוקאנחנו שמחים לבשר\, כי בהמשך להחלטת הממשלה מאתמול (יום שלישי\, 27.4) להרחבת התו הירוק החל מה-29.4. \n ילדים ונוער מתחת לגיל 16 ואנשים שקיבלו אישור כי אינם יכולים להתחסן\, להוציא “תו ירוק” על בסיס בדיקת קורונה שלילית למשך 72 שעות.ויוכלו להכנס למופעים! \nכל הפרטים על אופן הוצאת התו באתר הפורטל הלאומי – https://www.oref.org.il/12605-… \nט.ל.ח לאולם מופעים מטה אשר כברי\, שמורה הזכות לשינויים \nצילום: אוהד רומנו \n\n \n\n                    \n                    \n                    \n                    \n                    \n                    \n                    iFrameResize({autoResize : true\, checkOrigin : false}\, "iframe.resizableFrame");\n                    \n                \n                \n
URL:https://umacabri.co.il/event/%d7%99%d7%95%d7%91%d7%9c-%d7%93%d7%99%d7%99%d7%9f/
ATTACH;FMTTYPE=image/jpeg:https://umacabri.co.il/wp-content/uploads/2021/04/7593c184e601c1aa088e77a27f6631db.jpg
END:VEVENT
END:VCALENDAR