BEGIN:VCALENDAR
VERSION:2.0
PRODID:-//אולם מופעים מטה אשר כברי - ECPv4.6.13//NONSGML v1.0//EN
CALSCALE:GREGORIAN
METHOD:PUBLISH
X-WR-CALNAME:אולם מופעים מטה אשר כברי
X-ORIGINAL-URL:https://umacabri.co.il
X-WR-CALDESC:Events for אולם מופעים מטה אשר כברי
BEGIN:VEVENT
DTSTART;TZID=UTC+0:20190119T113000
DTEND;TZID=UTC+0:20190119T124500
DTSTAMP:20210505T215116
CREATED:20190107T085706Z
LAST-MODIFIED:20190107T092405Z
UID:1113-1547897400-1547901900@umacabri.co.il
SUMMARY:מחסן השטוזים של דתיה
DESCRIPTION:\nמאת : דתיה בן דורדתיה\, סופרת\, משוררת ומחזאית\, מזמינה אותנו לבקר במחסן השטוזים\, שם נמצאים כל חומרי ההשראה שלה – דמויות\, חפצים\, מנגינות ורעיונות. הביקור מלא הפתעות וחושף \nאת שיריה ויצירותיה של המשוררת. ההצגה זכתה לתשבוחות ולביקורות נפלאות. \nתיאטרון לילדים אורנה פורת \n 072-2429999    הזמנת כרטיסים \n   www.mofa.co.il \n\n\n \n\n                    \n                    \n                    \n                    \n                    \n                    \n                    iFrameResize({autoResize : true\, checkOrigin : false}\, "iframe.resizableFrame");\n                    \n                \n                \n
URL:https://umacabri.co.il/event/%d7%9e%d7%97%d7%a1%d7%9f-%d7%94%d7%a9%d7%98%d7%95%d7%96%d7%99%d7%9d-%d7%a9%d7%9c-%d7%93%d7%aa%d7%99%d7%94/
ATTACH;FMTTYPE=image/jpeg:https://umacabri.co.il/wp-content/uploads/2019/01/bd5d6b63f825b119bc0216a1239a1a67.jpg
END:VEVENT
END:VCALENDAR