BEGIN:VCALENDAR
VERSION:2.0
PRODID:-//אולם מופעים מטה אשר כברי - ECPv4.6.13//NONSGML v1.0//EN
CALSCALE:GREGORIAN
METHOD:PUBLISH
X-WR-CALNAME:אולם מופעים מטה אשר כברי
X-ORIGINAL-URL:https://umacabri.co.il
X-WR-CALDESC:Events for אולם מופעים מטה אשר כברי
BEGIN:VEVENT
DTSTART;TZID=UTC+0:20211119T220000
DTEND;TZID=UTC+0:20211120T010000
DTSTAMP:20210917T202713
CREATED:20210602T101659Z
LAST-MODIFIED:20210823T114403Z
UID:2635-1637359200-1637370000@umacabri.co.il
SUMMARY:תום יער
DESCRIPTION:\nאחרי שכבשה את הקהל על מסך הטלוויזיה (זוכות פרס האקדמיה “תום יער עושה את שביל ישראל” ו”תום יער עושה בגרות”\, “ארץ נהדרת”\, “היום בלילה עם גורי אלפי” והסדרה החדשה “הכל תום”) \nאחרי שהוכתרה כמי שמייצגת את הקול של הדור החדש בקומדיה הישראלית\, \nמגיעה הכוכבת הקומית עם מופע הסטנדאפ המתחדש שלה. \n“הסטנדאפ של תום יער מעולה!” הבוקר עם טל ברמן ואביעד קיסוס \n“מודל חדש של הומור נשי. אינטליגנטי לאין שיעור” – מאקו \n“פרועה משולחת רסן וממש מצחיקה” – וואלה \n“חלוצת הסטנדאפ הישראלי החדש” – הארץ \nמהירי החלטה: 100₪כרטיס: 110₪ \nההופעות באולם מתקיימות בכפוף ל”תו הירוק”נא להגיע חצי שעה לפני תחילת מופע להכין את ה”תו הירוק” תעודת זהות וכרטיסים \n*בנושא נגישות נא לפנות לדורית 052-8011523\nקשרי לקוחות  ulamc@mta.org.il \nט.ל.ח לאולם מופעים מטה אשר כברי\, שמורה הזכות לשינוייםצילום: אוהד רומנו \n\n \n\n                    \n                    \n                    \n                    \n                    \n                    \n                    iFrameResize({autoResize : true\, checkOrigin : false}\, "iframe.resizableFrame");\n                    \n                \n                \n
URL:https://umacabri.co.il/event/%d7%aa%d7%95%d7%9d-%d7%99%d7%a2%d7%a8/
ATTACH;FMTTYPE=image/jpeg:https://umacabri.co.il/wp-content/uploads/2021/06/0c2ca1ea2df002982f8c1632d58a0a45.jpg
END:VEVENT
END:VCALENDAR